BEGIN:VCALENDAR
VERSION:2.0
METHOD:PUBLISH
PRODID:-//hacksw/handcal//NONSGML v1.0//EN
BEGIN:VEVENT
DTSTAMP:20260421T084012Z
DTSTART:20260523T080000Z
DTEND:20260523T150000Z
UID:20260523T080000Z-20260523T150000Z-728@rhein-neckar-skater.de
SUMMARY:Pfingsttour 2026
DESCRIPTION:
X-ALT-DESC;FMTTYPE=text/html:
URL:https://rhein-neckar-skater.de/events/pfingsttour-2026/
ATTACH:https://rhein-neckar-skater.de/events/pfingsttour-2026/
ATTACH:https://rhein-neckar-skater.de/wp-content/uploads/2025/06/IMG_E
 8585-150x150.jpg
LOCATION:Start Pfingsttour 2026\, Am alten Weinheimer Weg 1\, Viernhei
 m
END:VEVENT
BEGIN:VEVENT
DTSTAMP:20260421T084012Z
DTSTART;VALUE=DATE:20260725
DTEND;VALUE=DATE:20260726
UID:20260724T220000Z-20260725T215959Z-720@rhein-neckar-skater.de
SUMMARY:Rheingau-Inline-Tour mit Partyschiff
DESCRIPTION:
X-ALT-DESC;FMTTYPE=text/html:
URL:https://www.wi-mz-inline.de/rheingau-inline-tour.php
ATTACH:https://www.wi-mz-inline.de/rheingau-inline-tour.php
END:VEVENT
BEGIN:VEVENT
DTSTAMP:20260421T084012Z
DTSTART;VALUE=DATE:20260913
DTEND;VALUE=DATE:20260914
UID:20260912T220000Z-20260913T215959Z-726@rhein-neckar-skater.de
SUMMARY:ebm-papst Marathon 2026
DESCRIPTION:
X-ALT-DESC;FMTTYPE=text/html:
URL:https://rhein-neckar-skater.de/events/ebm-papst-marathon-2026/
ATTACH:https://rhein-neckar-skater.de/events/ebm-papst-marathon-2026/
LOCATION:Niedernhall ebm-papst Marathon\, \, Niedernhall
END:VEVENT
BEGIN:VEVENT
DTSTAMP:20260421T084012Z
DTSTART;VALUE=DATE:20260919
DTEND;VALUE=DATE:20260920
UID:20260918T220000Z-20260919T215959Z-722@rhein-neckar-skater.de
SUMMARY:Sommerfest auf der Bahn
DESCRIPTION:Sommerfest des RNS zusammen mit dem Radsport-Verein auf de
 r gemeinsamen Anlage - Details folgen
X-ALT-DESC;FMTTYPE=text/html:<p>Sommerfest des RNS zusammen mit dem Ra
 dsport-Verein auf der gemeinsamen Anlage &#8211\; Details folgen</p>\n
URL:https://rhein-neckar-skater.de/events/sommerfest-auf-der-bahn/
ATTACH:https://rhein-neckar-skater.de/events/sommerfest-auf-der-bahn/
LOCATION:Inliner-Bahn\, An der Radrennbahn 16\, Mannheim
END:VEVENT
BEGIN:VEVENT
DTSTAMP:20260421T084012Z
DTSTART;VALUE=DATE:20260927
DTEND;VALUE=DATE:20260928
UID:20260926T220000Z-20260927T215959Z-727@rhein-neckar-skater.de
SUMMARY:Einstein Marathon Ulm
DESCRIPTION:
X-ALT-DESC;FMTTYPE=text/html:
URL:https://einsteinmarathon.de/
ATTACH:https://einsteinmarathon.de/
LOCATION:Messe Ulm\, Böfinger Str. 50\, Ulm
END:VEVENT
END:VCALENDAR
